BEGIN:VCALENDAR
VERSION:2.0
PRODID:-//Echecs Outaouais - ECPv6.15.20//NONSGML v1.0//EN
CALSCALE:GREGORIAN
METHOD:PUBLISH
X-ORIGINAL-URL:https://echecs-outaouais.com
X-WR-CALDESC:Événements pour Echecs Outaouais
REFRESH-INTERVAL;VALUE=DURATION:PT1H
X-Robots-Tag:noindex
X-PUBLISHED-TTL:PT1H
BEGIN:VTIMEZONE
TZID:America/New_York
BEGIN:DAYLIGHT
TZOFFSETFROM:-0500
TZOFFSETTO:-0400
TZNAME:EDT
DTSTART:20240310T070000
END:DAYLIGHT
BEGIN:STANDARD
TZOFFSETFROM:-0400
TZOFFSETTO:-0500
TZNAME:EST
DTSTART:20241103T060000
END:STANDARD
BEGIN:DAYLIGHT
TZOFFSETFROM:-0500
TZOFFSETTO:-0400
TZNAME:EDT
DTSTART:20250309T070000
END:DAYLIGHT
BEGIN:STANDARD
TZOFFSETFROM:-0400
TZOFFSETTO:-0500
TZNAME:EST
DTSTART:20251102T060000
END:STANDARD
BEGIN:DAYLIGHT
TZOFFSETFROM:-0500
TZOFFSETTO:-0400
TZNAME:EDT
DTSTART:20260308T070000
END:DAYLIGHT
BEGIN:STANDARD
TZOFFSETFROM:-0400
TZOFFSETTO:-0500
TZNAME:EST
DTSTART:20261101T060000
END:STANDARD
BEGIN:DAYLIGHT
TZOFFSETFROM:-0500
TZOFFSETTO:-0400
TZNAME:EDT
DTSTART:20270314T070000
END:DAYLIGHT
BEGIN:STANDARD
TZOFFSETFROM:-0400
TZOFFSETTO:-0500
TZNAME:EST
DTSTART:20271107T060000
END:STANDARD
END:VTIMEZONE
BEGIN:VEVENT
DTSTART;TZID=America/New_York:20260421T190000
DTEND;TZID=America/New_York:20260421T230000
DTSTAMP:20260425T121505
CREATED:20250829T214611Z
LAST-MODIFIED:20250829T214613Z
UID:10002359-1776798000-1776812400@echecs-outaouais.com
SUMMARY:Championnat de l'Outaouais 2026
DESCRIPTION:GRATUIT POUR LES MEMBRES DU CEH!(25$ pour les non-membres) \n\n\n\nTout le monde bienvenu (âge minimum: 10 ans)1 partie lente par soir2 sections: Fermée (coté FQE et CFC) et Réserve (coté FQE)Cadence: 90 + 30FQE: Fédération québécoise des échecsCFC: Fédération canadienne des échecs
URL:https://echecs-outaouais.com/event/championnat-de-loutaouais-2026/2026-04-21/
LOCATION:Centre Communautaire Fontaine (120 rue Charlevoix)\, 120 Charlevoix\, Gatineau\, Quebec\, J8X1R2\, Canada
CATEGORIES:Tournois
ATTACH;FMTTYPE=:
END:VEVENT
BEGIN:VEVENT
DTSTART;TZID=America/New_York:20260414T190000
DTEND;TZID=America/New_York:20260414T230000
DTSTAMP:20260425T121505
CREATED:20250829T214611Z
LAST-MODIFIED:20250829T214613Z
UID:10002358-1776193200-1776207600@echecs-outaouais.com
SUMMARY:Championnat de l'Outaouais 2026
DESCRIPTION:GRATUIT POUR LES MEMBRES DU CEH!(25$ pour les non-membres) \n\n\n\nTout le monde bienvenu (âge minimum: 10 ans)1 partie lente par soir2 sections: Fermée (coté FQE et CFC) et Réserve (coté FQE)Cadence: 90 + 30FQE: Fédération québécoise des échecsCFC: Fédération canadienne des échecs
URL:https://echecs-outaouais.com/event/championnat-de-loutaouais-2026/2026-04-14/
LOCATION:Centre Communautaire Fontaine (120 rue Charlevoix)\, 120 Charlevoix\, Gatineau\, Quebec\, J8X1R2\, Canada
CATEGORIES:Tournois
ATTACH;FMTTYPE=:
END:VEVENT
BEGIN:VEVENT
DTSTART;TZID=America/New_York:20260407T190000
DTEND;TZID=America/New_York:20260407T230000
DTSTAMP:20260425T121505
CREATED:20250829T214611Z
LAST-MODIFIED:20250829T214613Z
UID:10002357-1775588400-1775602800@echecs-outaouais.com
SUMMARY:Championnat de l'Outaouais 2026
DESCRIPTION:GRATUIT POUR LES MEMBRES DU CEH!(25$ pour les non-membres) \n\n\n\nTout le monde bienvenu (âge minimum: 10 ans)1 partie lente par soir2 sections: Fermée (coté FQE et CFC) et Réserve (coté FQE)Cadence: 90 + 30FQE: Fédération québécoise des échecsCFC: Fédération canadienne des échecs
URL:https://echecs-outaouais.com/event/championnat-de-loutaouais-2026/2026-04-07/
LOCATION:Centre Communautaire Fontaine (120 rue Charlevoix)\, 120 Charlevoix\, Gatineau\, Quebec\, J8X1R2\, Canada
CATEGORIES:Tournois
ATTACH;FMTTYPE=:
END:VEVENT
BEGIN:VEVENT
DTSTART;TZID=America/New_York:20260331T190000
DTEND;TZID=America/New_York:20260331T230000
DTSTAMP:20260425T121505
CREATED:20250829T214611Z
LAST-MODIFIED:20250829T214613Z
UID:10002356-1774983600-1774998000@echecs-outaouais.com
SUMMARY:Championnat de l'Outaouais 2026
DESCRIPTION:GRATUIT POUR LES MEMBRES DU CEH!(25$ pour les non-membres) \n\n\n\nTout le monde bienvenu (âge minimum: 10 ans)1 partie lente par soir2 sections: Fermée (coté FQE et CFC) et Réserve (coté FQE)Cadence: 90 + 30FQE: Fédération québécoise des échecsCFC: Fédération canadienne des échecs
URL:https://echecs-outaouais.com/event/championnat-de-loutaouais-2026/2026-03-31/
LOCATION:Centre Communautaire Fontaine (120 rue Charlevoix)\, 120 Charlevoix\, Gatineau\, Quebec\, J8X1R2\, Canada
CATEGORIES:Tournois
ATTACH;FMTTYPE=:
END:VEVENT
BEGIN:VEVENT
DTSTART;TZID=America/New_York:20260324T190000
DTEND;TZID=America/New_York:20260324T230000
DTSTAMP:20260425T121505
CREATED:20250829T214611Z
LAST-MODIFIED:20250829T214613Z
UID:10002355-1774378800-1774393200@echecs-outaouais.com
SUMMARY:Championnat de l'Outaouais 2026
DESCRIPTION:GRATUIT POUR LES MEMBRES DU CEH!(25$ pour les non-membres) \n\n\n\nTout le monde bienvenu (âge minimum: 10 ans)1 partie lente par soir2 sections: Fermée (coté FQE et CFC) et Réserve (coté FQE)Cadence: 90 + 30FQE: Fédération québécoise des échecsCFC: Fédération canadienne des échecs
URL:https://echecs-outaouais.com/event/championnat-de-loutaouais-2026/2026-03-24/
LOCATION:Centre Communautaire Fontaine (120 rue Charlevoix)\, 120 Charlevoix\, Gatineau\, Quebec\, J8X1R2\, Canada
CATEGORIES:Tournois
ATTACH;FMTTYPE=:
END:VEVENT
BEGIN:VEVENT
DTSTART;TZID=America/New_York:20260317T190000
DTEND;TZID=America/New_York:20260317T230000
DTSTAMP:20260425T121505
CREATED:20250829T220414Z
LAST-MODIFIED:20250829T220414Z
UID:10002345-1773774000-1773788400@echecs-outaouais.com
SUMMARY:Championnat Blitz de l'Outaouais 2026
DESCRIPTION:GRATUIT POUR LES MEMBRES DU CEH!(5$ pour les non-membres) \n\n\n\nTout le monde bienvenu (âge minimum: 10 ans)8 parties ou plus1 sectionCadence : 5 + 5 (coté FQE)FQE: Fédération québécoise des échecs
URL:https://echecs-outaouais.com/event/championnat-blitz-de-loutaouais-2026/2026-03-17/
LOCATION:Centre Communautaire Fontaine (120 rue Charlevoix)\, 120 Charlevoix\, Gatineau\, Quebec\, J8X1R2\, Canada
CATEGORIES:Tournois
ATTACH;FMTTYPE=:
END:VEVENT
BEGIN:VEVENT
DTSTART;TZID=America/New_York:20260310T190000
DTEND;TZID=America/New_York:20260310T230000
DTSTAMP:20260425T121505
CREATED:20250829T220424Z
LAST-MODIFIED:20250829T220424Z
UID:10002343-1773169200-1773183600@echecs-outaouais.com
SUMMARY:Championnat semi-rapides de l'Outaouais 2026
DESCRIPTION:GRATUIT POUR LES MEMBRES DU CEH!(10$ pour les non-membres) \n\n\n\nTout le monde bienvenu (âge minimum: 10 ans)3 parties par soir1 sectionCadence : 25 + 5 (coté FQE)FQE: Fédération québécoise des échecs
URL:https://echecs-outaouais.com/event/championnat-semi-rapides-de-loutaouais-2026/2026-03-10/
LOCATION:Centre Communautaire Fontaine (120 rue Charlevoix)\, 120 Charlevoix\, Gatineau\, Quebec\, J8X1R2\, Canada
CATEGORIES:Tournois
ATTACH;FMTTYPE=:
END:VEVENT
BEGIN:VEVENT
DTSTART;TZID=America/New_York:20260303T190000
DTEND;TZID=America/New_York:20260303T230000
DTSTAMP:20260425T121505
CREATED:20250829T220424Z
LAST-MODIFIED:20250829T220424Z
UID:10002342-1772564400-1772578800@echecs-outaouais.com
SUMMARY:Championnat semi-rapides de l'Outaouais 2026
DESCRIPTION:GRATUIT POUR LES MEMBRES DU CEH!(10$ pour les non-membres) \n\n\n\nTout le monde bienvenu (âge minimum: 10 ans)3 parties par soir1 sectionCadence : 25 + 5 (coté FQE)FQE: Fédération québécoise des échecs
URL:https://echecs-outaouais.com/event/championnat-semi-rapides-de-loutaouais-2026/2026-03-03/
LOCATION:Centre Communautaire Fontaine (120 rue Charlevoix)\, 120 Charlevoix\, Gatineau\, Quebec\, J8X1R2\, Canada
CATEGORIES:Tournois
ATTACH;FMTTYPE=:
END:VEVENT
BEGIN:VEVENT
DTSTART;TZID=America/New_York:20260224T183000
DTEND;TZID=America/New_York:20260224T230000
DTSTAMP:20260425T121505
CREATED:20250829T205252Z
LAST-MODIFIED:20250829T205723Z
UID:10002321-1771957800-1771974000@echecs-outaouais.com
SUMMARY:Tournoi Pillsbury
DESCRIPTION:Ouvert à tous (adultes\, aînés et jeunes 10 ans et plus) \n\n\n\n2 sections au choix: \n\n\n\n\nA (cadence: 90+30) – cotée FQE + CFC\n\n\n\nB (cadence: 60+30 – cotée FQE\n\n\n\n\nNouveaux: totalement gratuit \n\n\n\nInformation + Inscription: sera diffusée le 3 septembre
URL:https://echecs-outaouais.com/event/tournoi-pillsbury/2026-02-24/
LOCATION:Centre Communautaire Fontaine (120 rue Charlevoix)\, 120 Charlevoix\, Gatineau\, Quebec\, J8X1R2\, Canada
ATTACH;FMTTYPE=:
END:VEVENT
BEGIN:VEVENT
DTSTART;TZID=America/New_York:20260217T183000
DTEND;TZID=America/New_York:20260217T230000
DTSTAMP:20260425T121505
CREATED:20250829T205252Z
LAST-MODIFIED:20250829T205723Z
UID:10002327-1771353000-1771369200@echecs-outaouais.com
SUMMARY:Tournoi Pillsbury
DESCRIPTION:Ouvert à tous (adultes\, aînés et jeunes 10 ans et plus) \n\n\n\n2 sections au choix: \n\n\n\n\nA (cadence: 90+30) – cotée FQE + CFC\n\n\n\nB (cadence: 60+30 – cotée FQE\n\n\n\n\nNouveaux: totalement gratuit \n\n\n\nInformation + Inscription: sera diffusée le 3 septembre
URL:https://echecs-outaouais.com/event/tournoi-pillsbury/2026-02-17/
LOCATION:Centre Communautaire Fontaine (120 rue Charlevoix)\, 120 Charlevoix\, Gatineau\, Quebec\, J8X1R2\, Canada
ATTACH;FMTTYPE=:
END:VEVENT
BEGIN:VEVENT
DTSTART;TZID=America/New_York:20260210T183000
DTEND;TZID=America/New_York:20260210T230000
DTSTAMP:20260425T121505
CREATED:20250829T205252Z
LAST-MODIFIED:20250829T205723Z
UID:10002326-1770748200-1770764400@echecs-outaouais.com
SUMMARY:Tournoi Pillsbury
DESCRIPTION:Ouvert à tous (adultes\, aînés et jeunes 10 ans et plus) \n\n\n\n2 sections au choix: \n\n\n\n\nA (cadence: 90+30) – cotée FQE + CFC\n\n\n\nB (cadence: 60+30 – cotée FQE\n\n\n\n\nNouveaux: totalement gratuit \n\n\n\nInformation + Inscription: sera diffusée le 3 septembre
URL:https://echecs-outaouais.com/event/tournoi-pillsbury/2026-02-10/
LOCATION:Centre Communautaire Fontaine (120 rue Charlevoix)\, 120 Charlevoix\, Gatineau\, Quebec\, J8X1R2\, Canada
ATTACH;FMTTYPE=:
END:VEVENT
BEGIN:VEVENT
DTSTART;TZID=America/New_York:20260203T183000
DTEND;TZID=America/New_York:20260203T230000
DTSTAMP:20260425T121505
CREATED:20250829T205252Z
LAST-MODIFIED:20250829T205723Z
UID:10002325-1770143400-1770159600@echecs-outaouais.com
SUMMARY:Tournoi Pillsbury
DESCRIPTION:Ouvert à tous (adultes\, aînés et jeunes 10 ans et plus) \n\n\n\n2 sections au choix: \n\n\n\n\nA (cadence: 90+30) – cotée FQE + CFC\n\n\n\nB (cadence: 60+30 – cotée FQE\n\n\n\n\nNouveaux: totalement gratuit \n\n\n\nInformation + Inscription: sera diffusée le 3 septembre
URL:https://echecs-outaouais.com/event/tournoi-pillsbury/2026-02-03/
LOCATION:Centre Communautaire Fontaine (120 rue Charlevoix)\, 120 Charlevoix\, Gatineau\, Quebec\, J8X1R2\, Canada
ATTACH;FMTTYPE=:
END:VEVENT
BEGIN:VEVENT
DTSTART;TZID=America/New_York:20260127T183000
DTEND;TZID=America/New_York:20260127T230000
DTSTAMP:20260425T121505
CREATED:20250829T205252Z
LAST-MODIFIED:20250829T205723Z
UID:10002324-1769538600-1769554800@echecs-outaouais.com
SUMMARY:Tournoi Pillsbury
DESCRIPTION:Ouvert à tous (adultes\, aînés et jeunes 10 ans et plus) \n\n\n\n2 sections au choix: \n\n\n\n\nA (cadence: 90+30) – cotée FQE + CFC\n\n\n\nB (cadence: 60+30 – cotée FQE\n\n\n\n\nNouveaux: totalement gratuit \n\n\n\nInformation + Inscription: sera diffusée le 3 septembre
URL:https://echecs-outaouais.com/event/tournoi-pillsbury/2026-01-27/
LOCATION:Centre Communautaire Fontaine (120 rue Charlevoix)\, 120 Charlevoix\, Gatineau\, Quebec\, J8X1R2\, Canada
ATTACH;FMTTYPE=:
END:VEVENT
BEGIN:VEVENT
DTSTART;TZID=America/New_York:20260113T183000
DTEND;TZID=America/New_York:20260113T230000
DTSTAMP:20260425T121505
CREATED:20250829T205252Z
LAST-MODIFIED:20250829T205723Z
UID:10002323-1768329000-1768345200@echecs-outaouais.com
SUMMARY:Tournoi Pillsbury
DESCRIPTION:Ouvert à tous (adultes\, aînés et jeunes 10 ans et plus) \n\n\n\n2 sections au choix: \n\n\n\n\nA (cadence: 90+30) – cotée FQE + CFC\n\n\n\nB (cadence: 60+30 – cotée FQE\n\n\n\n\nNouveaux: totalement gratuit \n\n\n\nInformation + Inscription: sera diffusée le 3 septembre
URL:https://echecs-outaouais.com/event/tournoi-pillsbury/2026-01-13/
LOCATION:Centre Communautaire Fontaine (120 rue Charlevoix)\, 120 Charlevoix\, Gatineau\, Quebec\, J8X1R2\, Canada
ATTACH;FMTTYPE=:
END:VEVENT
BEGIN:VEVENT
DTSTART;TZID=America/New_York:20260106T183000
DTEND;TZID=America/New_York:20260106T230000
DTSTAMP:20260425T121505
CREATED:20250829T205252Z
LAST-MODIFIED:20250829T205723Z
UID:10002322-1767724200-1767740400@echecs-outaouais.com
SUMMARY:Tournoi Pillsbury
DESCRIPTION:Ouvert à tous (adultes\, aînés et jeunes 10 ans et plus) \n\n\n\n2 sections au choix: \n\n\n\n\nA (cadence: 90+30) – cotée FQE + CFC\n\n\n\nB (cadence: 60+30 – cotée FQE\n\n\n\n\nNouveaux: totalement gratuit \n\n\n\nInformation + Inscription: sera diffusée le 3 septembre
URL:https://echecs-outaouais.com/event/tournoi-pillsbury/2026-01-06/
LOCATION:Centre Communautaire Fontaine (120 rue Charlevoix)\, 120 Charlevoix\, Gatineau\, Quebec\, J8X1R2\, Canada
ATTACH;FMTTYPE=:
END:VEVENT
BEGIN:VEVENT
DTSTART;TZID=America/New_York:20251216T183000
DTEND;TZID=America/New_York:20251216T230000
DTSTAMP:20260425T121505
CREATED:20250829T204903Z
LAST-MODIFIED:20250829T204903Z
UID:10002313-1765909800-1765926000@echecs-outaouais.com
SUMMARY:Tournoi Tchigorine
DESCRIPTION:Ouvert à tous (adultes\, aînés et jeunes 10 ans et plus) \n\n\n\n2 sections au choix: \n\n\n\n\nA (cadence: 90+30) – cotée FQE + CFC\n\n\n\nB (cadence: 60+30 – cotée FQE\n\n\n\n\nNouveaux: totalement gratuit \n\n\n\nInformation + Inscription: sera diffusée le 3 septembre
URL:https://echecs-outaouais.com/event/tournoi-tchigorine/2025-12-16/
LOCATION:Centre Communautaire Fontaine (120 rue Charlevoix)\, 120 Charlevoix\, Gatineau\, Quebec\, J8X1R2\, Canada
ATTACH;FMTTYPE=:
END:VEVENT
BEGIN:VEVENT
DTSTART;TZID=America/New_York:20251209T183000
DTEND;TZID=America/New_York:20251209T230000
DTSTAMP:20260425T121505
CREATED:20250829T204903Z
LAST-MODIFIED:20250829T204903Z
UID:10002312-1765305000-1765321200@echecs-outaouais.com
SUMMARY:Tournoi Tchigorine
DESCRIPTION:Ouvert à tous (adultes\, aînés et jeunes 10 ans et plus) \n\n\n\n2 sections au choix: \n\n\n\n\nA (cadence: 90+30) – cotée FQE + CFC\n\n\n\nB (cadence: 60+30 – cotée FQE\n\n\n\n\nNouveaux: totalement gratuit \n\n\n\nInformation + Inscription: sera diffusée le 3 septembre
URL:https://echecs-outaouais.com/event/tournoi-tchigorine/2025-12-09/
LOCATION:Centre Communautaire Fontaine (120 rue Charlevoix)\, 120 Charlevoix\, Gatineau\, Quebec\, J8X1R2\, Canada
ATTACH;FMTTYPE=:
END:VEVENT
BEGIN:VEVENT
DTSTART;TZID=America/New_York:20251202T183000
DTEND;TZID=America/New_York:20251202T230000
DTSTAMP:20260425T121505
CREATED:20250829T204903Z
LAST-MODIFIED:20250829T204903Z
UID:10002311-1764700200-1764716400@echecs-outaouais.com
SUMMARY:Tournoi Tchigorine
DESCRIPTION:Ouvert à tous (adultes\, aînés et jeunes 10 ans et plus) \n\n\n\n2 sections au choix: \n\n\n\n\nA (cadence: 90+30) – cotée FQE + CFC\n\n\n\nB (cadence: 60+30 – cotée FQE\n\n\n\n\nNouveaux: totalement gratuit \n\n\n\nInformation + Inscription: sera diffusée le 3 septembre
URL:https://echecs-outaouais.com/event/tournoi-tchigorine/2025-12-02/
LOCATION:Centre Communautaire Fontaine (120 rue Charlevoix)\, 120 Charlevoix\, Gatineau\, Quebec\, J8X1R2\, Canada
ATTACH;FMTTYPE=:
END:VEVENT
BEGIN:VEVENT
DTSTART;TZID=America/New_York:20251125T183000
DTEND;TZID=America/New_York:20251125T230000
DTSTAMP:20260425T121505
CREATED:20250829T204903Z
LAST-MODIFIED:20250829T204903Z
UID:10002310-1764095400-1764111600@echecs-outaouais.com
SUMMARY:Tournoi Tchigorine
DESCRIPTION:Ouvert à tous (adultes\, aînés et jeunes 10 ans et plus) \n\n\n\n2 sections au choix: \n\n\n\n\nA (cadence: 90+30) – cotée FQE + CFC\n\n\n\nB (cadence: 60+30 – cotée FQE\n\n\n\n\nNouveaux: totalement gratuit \n\n\n\nInformation + Inscription: sera diffusée le 3 septembre
URL:https://echecs-outaouais.com/event/tournoi-tchigorine/2025-11-25/
LOCATION:Centre Communautaire Fontaine (120 rue Charlevoix)\, 120 Charlevoix\, Gatineau\, Quebec\, J8X1R2\, Canada
ATTACH;FMTTYPE=:
END:VEVENT
BEGIN:VEVENT
DTSTART;TZID=America/New_York:20251118T183000
DTEND;TZID=America/New_York:20251118T230000
DTSTAMP:20260425T121505
CREATED:20250829T204903Z
LAST-MODIFIED:20250829T204903Z
UID:10002309-1763490600-1763506800@echecs-outaouais.com
SUMMARY:Tournoi Tchigorine
DESCRIPTION:Ouvert à tous (adultes\, aînés et jeunes 10 ans et plus) \n\n\n\n2 sections au choix: \n\n\n\n\nA (cadence: 90+30) – cotée FQE + CFC\n\n\n\nB (cadence: 60+30 – cotée FQE\n\n\n\n\nNouveaux: totalement gratuit \n\n\n\nInformation + Inscription: sera diffusée le 3 septembre
URL:https://echecs-outaouais.com/event/tournoi-tchigorine/2025-11-18/
LOCATION:Centre Communautaire Fontaine (120 rue Charlevoix)\, 120 Charlevoix\, Gatineau\, Quebec\, J8X1R2\, Canada
ATTACH;FMTTYPE=:
END:VEVENT
BEGIN:VEVENT
DTSTART;TZID=America/New_York:20251111T183000
DTEND;TZID=America/New_York:20251111T230000
DTSTAMP:20260425T121505
CREATED:20250829T204903Z
LAST-MODIFIED:20250829T204903Z
UID:10002308-1762885800-1762902000@echecs-outaouais.com
SUMMARY:Tournoi Tchigorine
DESCRIPTION:Ouvert à tous (adultes\, aînés et jeunes 10 ans et plus) \n\n\n\n2 sections au choix: \n\n\n\n\nA (cadence: 90+30) – cotée FQE + CFC\n\n\n\nB (cadence: 60+30 – cotée FQE\n\n\n\n\nNouveaux: totalement gratuit \n\n\n\nInformation + Inscription: sera diffusée le 3 septembre
URL:https://echecs-outaouais.com/event/tournoi-tchigorine/2025-11-11/
LOCATION:Centre Communautaire Fontaine (120 rue Charlevoix)\, 120 Charlevoix\, Gatineau\, Quebec\, J8X1R2\, Canada
ATTACH;FMTTYPE=:
END:VEVENT
BEGIN:VEVENT
DTSTART;TZID=America/New_York:20251104T183000
DTEND;TZID=America/New_York:20251104T230000
DTSTAMP:20260425T121505
CREATED:20250829T204903Z
LAST-MODIFIED:20250829T204903Z
UID:10002307-1762281000-1762297200@echecs-outaouais.com
SUMMARY:Tournoi Tchigorine
DESCRIPTION:Ouvert à tous (adultes\, aînés et jeunes 10 ans et plus) \n\n\n\n2 sections au choix: \n\n\n\n\nA (cadence: 90+30) – cotée FQE + CFC\n\n\n\nB (cadence: 60+30 – cotée FQE\n\n\n\n\nNouveaux: totalement gratuit \n\n\n\nInformation + Inscription: sera diffusée le 3 septembre
URL:https://echecs-outaouais.com/event/tournoi-tchigorine/2025-11-04/
LOCATION:Centre Communautaire Fontaine (120 rue Charlevoix)\, 120 Charlevoix\, Gatineau\, Quebec\, J8X1R2\, Canada
ATTACH;FMTTYPE=:
END:VEVENT
BEGIN:VEVENT
DTSTART;TZID=America/New_York:20251021T183000
DTEND;TZID=America/New_York:20251021T230000
DTSTAMP:20260425T121505
CREATED:20250829T215202Z
LAST-MODIFIED:20250829T215202Z
UID:10002335-1761071400-1761087600@echecs-outaouais.com
SUMMARY:Semi-rapide Automne 2025
DESCRIPTION:Ouvert à tous (adultes\, aînés et jeunes 10 ans et plus) \n\n\n\nCadence: 25+5 \n\n\n\n2 sections cotées FQE: \n\n\n\n\nA (ouverte)\n\n\n\nB (moins de 1400)\n\n\n\n\nInformation + Inscription: sera diffusée le 8 octobre \n\n\n\nNouveaux: totalement gratuit
URL:https://echecs-outaouais.com/event/semi-rapide-automne-2025/2025-10-21/
LOCATION:Centre Communautaire Fontaine (120 rue Charlevoix)\, 120 Charlevoix\, Gatineau\, Quebec\, J8X1R2\, Canada
ATTACH;FMTTYPE=:
END:VEVENT
BEGIN:VEVENT
DTSTART;TZID=America/New_York:20251014T183000
DTEND;TZID=America/New_York:20251014T230000
DTSTAMP:20260425T121505
CREATED:20250829T215202Z
LAST-MODIFIED:20250829T215202Z
UID:10002334-1760466600-1760482800@echecs-outaouais.com
SUMMARY:Semi-rapide Automne 2025
DESCRIPTION:Ouvert à tous (adultes\, aînés et jeunes 10 ans et plus) \n\n\n\nCadence: 25+5 \n\n\n\n2 sections cotées FQE: \n\n\n\n\nA (ouverte)\n\n\n\nB (moins de 1400)\n\n\n\n\nInformation + Inscription: sera diffusée le 8 octobre \n\n\n\nNouveaux: totalement gratuit
URL:https://echecs-outaouais.com/event/semi-rapide-automne-2025/2025-10-14/
LOCATION:Centre Communautaire Fontaine (120 rue Charlevoix)\, 120 Charlevoix\, Gatineau\, Quebec\, J8X1R2\, Canada
ATTACH;FMTTYPE=:
END:VEVENT
BEGIN:VEVENT
DTSTART;TZID=America/New_York:20251007T183000
DTEND;TZID=America/New_York:20251007T230000
DTSTAMP:20260425T121505
CREATED:20250829T203806Z
LAST-MODIFIED:20250829T204614Z
UID:10002301-1759861800-1759878000@echecs-outaouais.com
SUMMARY:Tournoi La Bourdonnais
DESCRIPTION:Ouvert à tous (adultes\, aînés et jeunes 10 ans et plus) \n\n\n\n2 sections au choix: \n\n\n\n\nA (cadence: 90+30) – cotée FQE + CFC\n\n\n\nB (cadence: 60+30 – cotée FQE\n\n\n\n\nInformation + Inscription: sera diffusée le 3 septembre \n\n\n\nNouveaux: totalement gratuit
URL:https://echecs-outaouais.com/event/tournoi-la-bourdonnais/2025-10-07/
LOCATION:Centre Communautaire Fontaine (120 rue Charlevoix)\, 120 Charlevoix\, Gatineau\, Quebec\, J8X1R2\, Canada
ATTACH;FMTTYPE=:
END:VEVENT
BEGIN:VEVENT
DTSTART;TZID=America/New_York:20250930T183000
DTEND;TZID=America/New_York:20250930T230000
DTSTAMP:20260425T121505
CREATED:20250829T203806Z
LAST-MODIFIED:20250829T204614Z
UID:10002300-1759257000-1759273200@echecs-outaouais.com
SUMMARY:Tournoi La Bourdonnais
DESCRIPTION:Ouvert à tous (adultes\, aînés et jeunes 10 ans et plus) \n\n\n\n2 sections au choix: \n\n\n\n\nA (cadence: 90+30) – cotée FQE + CFC\n\n\n\nB (cadence: 60+30 – cotée FQE\n\n\n\n\nInformation + Inscription: sera diffusée le 3 septembre \n\n\n\nNouveaux: totalement gratuit
URL:https://echecs-outaouais.com/event/tournoi-la-bourdonnais/2025-09-30/
LOCATION:Centre Communautaire Fontaine (120 rue Charlevoix)\, 120 Charlevoix\, Gatineau\, Quebec\, J8X1R2\, Canada
ATTACH;FMTTYPE=:
END:VEVENT
BEGIN:VEVENT
DTSTART;TZID=America/New_York:20250923T183000
DTEND;TZID=America/New_York:20250923T230000
DTSTAMP:20260425T121505
CREATED:20250829T203806Z
LAST-MODIFIED:20250829T204614Z
UID:10002299-1758652200-1758668400@echecs-outaouais.com
SUMMARY:Tournoi La Bourdonnais
DESCRIPTION:Ouvert à tous (adultes\, aînés et jeunes 10 ans et plus) \n\n\n\n2 sections au choix: \n\n\n\n\nA (cadence: 90+30) – cotée FQE + CFC\n\n\n\nB (cadence: 60+30 – cotée FQE\n\n\n\n\nInformation + Inscription: sera diffusée le 3 septembre \n\n\n\nNouveaux: totalement gratuit
URL:https://echecs-outaouais.com/event/tournoi-la-bourdonnais/2025-09-23/
LOCATION:Centre Communautaire Fontaine (120 rue Charlevoix)\, 120 Charlevoix\, Gatineau\, Quebec\, J8X1R2\, Canada
ATTACH;FMTTYPE=:
END:VEVENT
BEGIN:VEVENT
DTSTART;TZID=America/New_York:20250916T183000
DTEND;TZID=America/New_York:20250916T230000
DTSTAMP:20260425T121505
CREATED:20250829T203806Z
LAST-MODIFIED:20250829T204614Z
UID:10002298-1758047400-1758063600@echecs-outaouais.com
SUMMARY:Tournoi La Bourdonnais
DESCRIPTION:Ouvert à tous (adultes\, aînés et jeunes 10 ans et plus) \n\n\n\n2 sections au choix: \n\n\n\n\nA (cadence: 90+30) – cotée FQE + CFC\n\n\n\nB (cadence: 60+30 – cotée FQE\n\n\n\n\nInformation + Inscription: sera diffusée le 3 septembre \n\n\n\nNouveaux: totalement gratuit
URL:https://echecs-outaouais.com/event/tournoi-la-bourdonnais/2025-09-16/
LOCATION:Centre Communautaire Fontaine (120 rue Charlevoix)\, 120 Charlevoix\, Gatineau\, Quebec\, J8X1R2\, Canada
ATTACH;FMTTYPE=:
END:VEVENT
BEGIN:VEVENT
DTSTART;TZID=America/New_York:20250909T183000
DTEND;TZID=America/New_York:20250909T230000
DTSTAMP:20260425T121505
CREATED:20250829T203806Z
LAST-MODIFIED:20250829T204614Z
UID:10002297-1757442600-1757458800@echecs-outaouais.com
SUMMARY:Tournoi La Bourdonnais
DESCRIPTION:Ouvert à tous (adultes\, aînés et jeunes 10 ans et plus) \n\n\n\n2 sections au choix: \n\n\n\n\nA (cadence: 90+30) – cotée FQE + CFC\n\n\n\nB (cadence: 60+30 – cotée FQE\n\n\n\n\nInformation + Inscription: sera diffusée le 3 septembre \n\n\n\nNouveaux: totalement gratuit
URL:https://echecs-outaouais.com/event/tournoi-la-bourdonnais/2025-09-09/
LOCATION:Centre Communautaire Fontaine (120 rue Charlevoix)\, 120 Charlevoix\, Gatineau\, Quebec\, J8X1R2\, Canada
ATTACH;FMTTYPE=:
END:VEVENT
BEGIN:VEVENT
DTSTART;TZID=America/New_York:20250902T173000
DTEND;TZID=America/New_York:20250902T210000
DTSTAMP:20260425T121505
CREATED:20250829T011427Z
LAST-MODIFIED:20250829T013313Z
UID:10002296-1756834200-1756846800@echecs-outaouais.com
SUMMARY:Pizza + Échecs
DESCRIPTION:Gratuit! Adultes\, jeunes\, aînés – débutants bienvenus. \n\n\n\nPizza: 17h30-19h \n\n\n\nÉchecs: Tournoi amical de 3 parties (19h-21h) – Round-robins à 4 joueurs – joueurs regroupés selon la force – Prix: horloge (valeur de 40$) tout le monde a une chance de gagner! \n\n\n\nInformation + Inscription
URL:https://echecs-outaouais.com/event/pizza-echecs-2/
LOCATION:Centre Communautaire Fontaine (120 rue Charlevoix)\, 120 Charlevoix\, Gatineau\, Quebec\, J8X1R2\, Canada
ATTACH;FMTTYPE=:
END:VEVENT
END:VCALENDAR